BEGIN:VCALENDAR
VERSION:2.0
PRODID:-//wp-events-plugin.com//7.2.3.1//EN
BEGIN:VEVENT
UID:1@dprd-soppeng.go.id
DTSTART:20250903T020000Z
DTEND:20250903T021500Z
DTSTAMP:20250909T023902Z
URL:https://dprd-soppeng.go.id/events/rapat-pimpinan-tertutup/
SUMMARY:Rapat Pimpinan (Tertutup)
DESCRIPTION:Membahas Surat Bupati Soppeng Nomor : 900.1.3/1207/BPKPD Tangga
 l 02 September 2025 Perihal Penyampaian Nota Keuangan dan Rancangan Perda 
 Perubahan APBD T.A. 2025
END:VEVENT
END:VCALENDAR