BEGIN:VCALENDAR
VERSION:2.0
PRODID:-//wp-events-plugin.com//7.2.3.1//EN
BEGIN:VEVENT
UID:9@dprd-soppeng.go.id
DTSTART;TZID=Asia/Makassar:20250911T090000
DTEND;TZID=Asia/Makassar:20250911T090000
DTSTAMP:20250912T020548Z
URL:https://dprd-soppeng.go.id/events/rapat-paripurna-perubahan-jadwal/
SUMMARY:RAPAT PARIPURNA PERUBAHAN JADWAL
DESCRIPTION:Perubahan jadwal rapat-rapat DPRD terkait Rancangan Perda tenta
 ng Perubahan APBD Tahun Anggaran 2025
END:VEVENT
BEGIN:VTIMEZONE
TZID:Asia/Makassar
X-LIC-LOCATION:Asia/Makassar
BEGIN:STANDARD
DTSTART:20240911T090000
TZOFFSETFROM:+0800
TZOFFSETTO:+0800
TZNAME:WITA
END:STANDARD
END:VTIMEZONE
END:VCALENDAR