BEGIN:VCALENDAR
VERSION:2.0
PRODID:-//wp-events-plugin.com//7.2.3.1//EN
BEGIN:VEVENT
UID:8@dprd-soppeng.go.id
DTSTART:20250909T010000Z
DTEND:20250909T010000Z
DTSTAMP:20250909T033658Z
URL:https://dprd-soppeng.go.id/events/rapat-paripurna-pembicaraan-tk-i-dpr
 d-2/
SUMMARY:RAPAT PARIPURNA PEMBICARAAN TK. I DPRD
DESCRIPTION:Penjelasan Bupati dan Penyerahan Secara Resmi Nota Keuangan dan
  Rancangan Peraturan Daerah tentang Perubahan APBD Tahun Anggaran 2025
END:VEVENT
END:VCALENDAR