BEGIN:VCALENDAR
VERSION:2.0
PRODID:-//wp-events-plugin.com//7.2.3.1//EN
BEGIN:VEVENT
UID:4@dprd-soppeng.go.id
DTSTART:20250909T060000Z
DTEND:20250909T060000Z
DTSTAMP:20250909T024149Z
URL:https://dprd-soppeng.go.id/events/rapat-paripurna-dprd/
SUMMARY:RAPAT PARIPURNA DPRD
DESCRIPTION:Penyampaian Pemandangan Umum Fraksi DPRD dan Jawaban Bupati ata
 s Pemandangan Umum Fraksi DPRD Terhadap Rancangan Peraturan Daerah tentang
  Perubahan APBD Tahun Anggaran 2025
END:VEVENT
END:VCALENDAR