BEGIN:VCALENDAR
VERSION:2.0
PRODID:-//wp-events-plugin.com//7.2.3.1//EN
BEGIN:VEVENT
UID:16@dprd-soppeng.go.id
DTSTART;TZID=Asia/Makassar:20251006T140000
DTEND;TZID=Asia/Makassar:20251006T140000
DTSTAMP:20250912T021239Z
URL:https://dprd-soppeng.go.id/events/rapat-paripurna-dprd-penyampaian-pen
 dapat-fraksi/
SUMMARY:RAPAT PARIPURNA DPRD PENYAMPAIAN PENDAPAT FRAKSI
DESCRIPTION:Penyampaian Pendapat Akhir Fraksi DPRD Terhadap Rancangan Perat
 uran Daerah tentang APBD Tahun Anggaran 2026
END:VEVENT
BEGIN:VTIMEZONE
TZID:Asia/Makassar
X-LIC-LOCATION:Asia/Makassar
BEGIN:STANDARD
DTSTART:20241006T140000
TZOFFSETFROM:+0800
TZOFFSETTO:+0800
TZNAME:WITA
END:STANDARD
END:VTIMEZONE
END:VCALENDAR