BEGIN:VCALENDAR
VERSION:2.0
PRODID:-//wp-events-plugin.com//7.2.3.1//EN
BEGIN:VEVENT
UID:14@dprd-soppeng.go.id
DTSTART;TZID=Asia/Makassar:20250915T090000
DTEND;TZID=Asia/Makassar:20250915T090000
DTSTAMP:20250912T020942Z
URL:https://dprd-soppeng.go.id/events/rapat-paripurna-dprd-penyampaian-pem
 andangan-umum-fraksi/
SUMMARY:RAPAT PARIPURNA DPRD PENYAMPAIAN PEMANDANGAN UMUM FRAKSI
DESCRIPTION:Penyampaian Pemandangan Umum Fraksi DPRD dan Jawaban Bupati ata
 s Pemandangan Umum Fraksi DPRD Terhadap Rancangan Peraturan Daerah tentang
  APBD Tahun Anggaran 2026
END:VEVENT
BEGIN:VTIMEZONE
TZID:Asia/Makassar
X-LIC-LOCATION:Asia/Makassar
BEGIN:STANDARD
DTSTART:20240915T090000
TZOFFSETFROM:+0800
TZOFFSETTO:+0800
TZNAME:WITA
END:STANDARD
END:VTIMEZONE
END:VCALENDAR