BEGIN:VCALENDAR
VERSION:2.0
PRODID:-//wp-events-plugin.com//7.2.3.1//EN
BEGIN:VEVENT
UID:7@dprd-soppeng.go.id
DTSTART:20250919T060000Z
DTEND:20250919T060000Z
DTSTAMP:20250912T020519Z
URL:https://dprd-soppeng.go.id/events/rapat-paripurna-dprd-pembicaraan-tk-
 ii/
SUMMARY:RAPAT PARIPURNA DPRD PEMBICARAAN TK II
DESCRIPTION:Pengambilan Keputusan Terhadap Rancangan Peraturan Daerah tenta
 ng Perubahan APBD Tahun Anggaran 2025
END:VEVENT
END:VCALENDAR