BEGIN:VCALENDAR
VERSION:2.0
PRODID:-//wp-events-plugin.com//7.2.3.1//EN
BEGIN:VEVENT
UID:17@dprd-soppeng.go.id
DTSTART;TZID=Asia/Makassar:20251007T140000
DTEND;TZID=Asia/Makassar:20251007T140000
DTSTAMP:20250912T021318Z
URL:https://dprd-soppeng.go.id/events/rapat-paripurna-dprd-pembicaraan-tk-
 ii-2/
SUMMARY:RAPAT PARIPURNA DPRD PEMBICARAAN TK II
DESCRIPTION:Pengambilan Keputusan Terhadap Rancangan Peraturan Daerah tenta
 ng APBD Tahun Anggaran 2026
END:VEVENT
BEGIN:VTIMEZONE
TZID:Asia/Makassar
X-LIC-LOCATION:Asia/Makassar
BEGIN:STANDARD
DTSTART:20241007T140000
TZOFFSETFROM:+0800
TZOFFSETTO:+0800
TZNAME:WITA
END:STANDARD
END:VTIMEZONE
END:VCALENDAR