BEGIN:VCALENDAR
VERSION:2.0
PRODID:-//wp-events-plugin.com//7.2.3.1//EN
BEGIN:VEVENT
UID:6@dprd-soppeng.go.id
DTSTART:20250918T030000Z
DTEND:20250918T030000Z
DTSTAMP:20250912T020501Z
URL:https://dprd-soppeng.go.id/events/rapat-paripurna-dprd-2/
SUMMARY:RAPAT PARIPURNA PENYAMPAIAN PENDAPAT FRAKSI
DESCRIPTION:Penyampaian Pendapat Fraksi DPRD Terhadap Rancangan Peraturan D
 aerah tentang Perubahan APBD Tahun Anggaran 2025
END:VEVENT
END:VCALENDAR