BEGIN:VCALENDAR
VERSION:2.0
PRODID:-//wp-events-plugin.com//7.2.3.1//EN
BEGIN:VEVENT
UID:2@dprd-soppeng.go.id
DTSTART:20250903T053000Z
DTEND:20250903T053000Z
DTSTAMP:20250909T023919Z
URL:https://dprd-soppeng.go.id/events/rapat-badan-musyawarah-tertutup/
SUMMARY:Rapat Badan Musyawarah (Tertutup)
DESCRIPTION:Membahas Jadwal Rapat-Rapat DPRD Terkait Bupati Soppeng Nomor :
  900.1.3/1207/BPKPD Tanggal 02 September 2025 Perihal Penyampaian Nota Keu
 angan dan Rancangan Perda Perubahan APBD T.A. 2025
END:VEVENT
END:VCALENDAR