BEGIN:VCALENDAR
VERSION:2.0
PRODID:-//wp-events-plugin.com//7.2.3.1//EN
BEGIN:VEVENT
UID:12@dprd-soppeng.go.id
DTSTART;TZID=Asia/Makassar:20250911T140000
DTEND;TZID=Asia/Makassar:20250911T140000
DTSTAMP:20250912T020543Z
URL:https://dprd-soppeng.go.id/events/rapat-badan-musyawarah-dprd-tertutup
 /
SUMMARY:RAPAT BADAN MUSYAWARAH DPRD (TERTUTUP)
DESCRIPTION:Membahas Jadwal Rapat-Rapat DPRD Surat Bupati Soppeng Nomor : 9
 00.1.3/1244/BPKPD Tanggal 10 September 2025 Perihal Penyampaian Nota Keuan
 gan dan Rancangan Perda APBD T.A. 2026
END:VEVENT
BEGIN:VTIMEZONE
TZID:Asia/Makassar
X-LIC-LOCATION:Asia/Makassar
BEGIN:STANDARD
DTSTART:20240911T140000
TZOFFSETFROM:+0800
TZOFFSETTO:+0800
TZNAME:WITA
END:STANDARD
END:VTIMEZONE
END:VCALENDAR