BEGIN:VCALENDAR
VERSION:2.0
PRODID:-//wp-events-plugin.com//7.2.3.1//EN
BEGIN:VEVENT
UID:5@dprd-soppeng.go.id
DTSTART:20250910T010000Z
DTEND:20250910T010000Z
DTSTAMP:20250909T024234Z
URL:https://dprd-soppeng.go.id/events/rapat-badan-anggaran-dprd-bersama-ta
 pd-tertutup/
SUMMARY:RAPAT BADAN ANGGARAN DPRD BERSAMA TAPD (TERTUTUP)
DESCRIPTION:Pembahasan Rancangan Peraturan Daerah tentang Perubahan APBD Ta
 hun Anggaran 2025
END:VEVENT
END:VCALENDAR