BEGIN:VCALENDAR
VERSION:2.0
PRODID:-//wp-events-plugin.com//7.2.3.1//EN
BEGIN:VEVENT
UID:15@dprd-soppeng.go.id
DTSTART;TZID=Asia/Makassar:20250930T090000
DTEND;TZID=Asia/Makassar:20251003T150000
DTSTAMP:20250912T021047Z
URL:https://dprd-soppeng.go.id/events/rapat-badan-anggaran-dprd-bersama-ta
 pd-tertutup-3/
SUMMARY:RAPAT BADAN ANGGARAN DPRD BERSAMA TAPD (TERTUTUP)
DESCRIPTION:Pembahasan Rancangan Peraturan Daerah tentang APBD Tahun Anggar
 an 2026
END:VEVENT
BEGIN:VTIMEZONE
TZID:Asia/Makassar
X-LIC-LOCATION:Asia/Makassar
BEGIN:STANDARD
DTSTART:20240930T090000
TZOFFSETFROM:+0800
TZOFFSETTO:+0800
TZNAME:WITA
END:STANDARD
END:VTIMEZONE
END:VCALENDAR